BEGIN:VCALENDAR
VERSION:2.0
PRODID:-//Downtown Red Deer Business Association - ECPv6.15.20//NONSGML v1.0//EN
CALSCALE:GREGORIAN
METHOD:PUBLISH
X-ORIGINAL-URL:https://downtownreddeer.com
X-WR-CALDESC:Events for Downtown Red Deer Business Association
REFRESH-INTERVAL;VALUE=DURATION:PT1H
X-Robots-Tag:noindex
X-PUBLISHED-TTL:PT1H
BEGIN:VTIMEZONE
TZID:America/Edmonton
BEGIN:DAYLIGHT
TZOFFSETFROM:-0700
TZOFFSETTO:-0600
TZNAME:MDT
DTSTART:20240310T090000
END:DAYLIGHT
BEGIN:STANDARD
TZOFFSETFROM:-0600
TZOFFSETTO:-0700
TZNAME:MST
DTSTART:20241103T080000
END:STANDARD
BEGIN:DAYLIGHT
TZOFFSETFROM:-0700
TZOFFSETTO:-0600
TZNAME:MDT
DTSTART:20250309T090000
END:DAYLIGHT
BEGIN:STANDARD
TZOFFSETFROM:-0600
TZOFFSETTO:-0700
TZNAME:MST
DTSTART:20251102T080000
END:STANDARD
BEGIN:DAYLIGHT
TZOFFSETFROM:-0700
TZOFFSETTO:-0600
TZNAME:MDT
DTSTART:20260308T090000
END:DAYLIGHT
BEGIN:STANDARD
TZOFFSETFROM:-0600
TZOFFSETTO:-0700
TZNAME:MST
DTSTART:20261101T080000
END:STANDARD
END:VTIMEZONE
BEGIN:VEVENT
DTSTART;TZID=America/Edmonton:20250830T120000
DTEND;TZID=America/Edmonton:20250830T160000
DTSTAMP:20260421T090710
CREATED:20250819T170132Z
LAST-MODIFIED:20250819T170738Z
UID:9182-1756555200-1756569600@downtownreddeer.com
SUMMARY:Community Mural Paint Day
DESCRIPTION:Come enjoy an all-age free Community Paint Day on Saturday\, August 30th\, where participants can help fill in the background to the project’s design\, created by local artist Emma Guido. All materials are provided\, and a free BBQ is available for folks when they’re done! \nIf you’re interested in volunteering at this event\, please fill out the form below to let us know how you’d like to be involved. \nhttps://forms.gle/BsLZpYRca8ewkEzg6
URL:https://downtownreddeer.com/event/community-mural-paint-day/
LOCATION:5031 Ross St\, 5031 Ross St\, Red Deer\, AB\, T4N 1Y2\, Canada
ATTACH;FMTTYPE=image/png:https://downtownreddeer.com/wp-content/uploads/2025/08/AltC_Roaming-Facebook-scaled.png
ORGANIZER;CN="Downtown Red Deer Business Association":MAILTO:info@downtownreddeer.com
END:VEVENT
END:VCALENDAR